BEGIN:VCALENDAR
VERSION:2.0
PRODID:-//GOC St George - ECPv4.9.10//NONSGML v1.0//EN
CALSCALE:GREGORIAN
METHOD:PUBLISH
X-WR-CALNAME:GOC St George
X-ORIGINAL-URL:https://gocstgeorge.com.au
X-WR-CALDESC:Events for GOC St George
BEGIN:VTIMEZONE
TZID:Australia/Brisbane
BEGIN:STANDARD
TZOFFSETFROM:+1000
TZOFFSETTO:+1000
TZNAME:AEST
DTSTART:20200101T000000
END:STANDARD
END:VTIMEZONE
BEGIN:VEVENT
DTSTART;TZID=Australia/Brisbane:20200228T183000
DTEND;TZID=Australia/Brisbane:20200228T223000
DTSTAMP:20200228T072809
CREATED:20200225T045206Z
LAST-MODIFIED:20200225T045635Z
UID:719-1582914600-1582929000@gocstgeorge.com.au
SUMMARY:G.O.C COMMUNITY SOCIAL GROUP - BINGO
DESCRIPTION: \n
URL:https://gocstgeorge.com.au/event/g-o-c-community-social-group-bingo/
LOCATION:GOC Respite Centre\, 36 Browning Street\, SOUTH BRISBANE\, QLD\, 4101\, Australia
END:VEVENT
END:VCALENDAR